BEGIN:VCALENDAR
VERSION:2.0
PRODID:-//G.N.I.A - ECPv6.15.15//NONSGML v1.0//EN
CALSCALE:GREGORIAN
METHOD:PUBLISH
X-ORIGINAL-URL:https://gnia.fr
X-WR-CALDESC:Évènements pour G.N.I.A
REFRESH-INTERVAL;VALUE=DURATION:PT1H
X-Robots-Tag:noindex
X-PUBLISHED-TTL:PT1H
BEGIN:VTIMEZONE
TZID:UTC
BEGIN:STANDARD
TZOFFSETFROM:+0000
TZOFFSETTO:+0000
TZNAME:UTC
DTSTART:20240101T000000
END:STANDARD
END:VTIMEZONE
BEGIN:VEVENT
DTSTART;TZID=UTC:20250412T090000
DTEND;TZID=UTC:20250412T100000
DTSTAMP:20260421T100543
CREATED:20250706T103049Z
LAST-MODIFIED:20250706T103049Z
UID:8798-1744448400-1744452000@gnia.fr
SUMMARY:Les G.N.I.A sur le New LVB
DESCRIPTION:
URL:https://gnia.fr/event/les-g-n-i-a-sur-le-new-lvb/
LOCATION:N 45° 49.455 E 005° 25.252
END:VEVENT
END:VCALENDAR