BEGIN:VCALENDAR
VERSION:2.0
PRODID:-//G.N.I.A - ECPv6.15.15//NONSGML v1.0//EN
CALSCALE:GREGORIAN
METHOD:PUBLISH
X-WR-CALNAME:G.N.I.A
X-ORIGINAL-URL:https://gnia.fr
X-WR-CALDESC:Évènements pour G.N.I.A
REFRESH-INTERVAL;VALUE=DURATION:PT1H
X-Robots-Tag:noindex
X-PUBLISHED-TTL:PT1H
BEGIN:VTIMEZONE
TZID:UTC
BEGIN:STANDARD
TZOFFSETFROM:+0000
TZOFFSETTO:+0000
TZNAME:UTC
DTSTART:20210101T000000
END:STANDARD
END:VTIMEZONE
BEGIN:VEVENT
DTSTART;TZID=UTC:20260307T110000
DTEND;TZID=UTC:20260307T140000
DTSTAMP:20260419T182016
CREATED:20260118T121645Z
LAST-MODIFIED:20260121T062730Z
UID:9482-1772881200-1772892000@gnia.fr
SUMMARY:GCBHJW7 - Viens te réchauffer avec les Diots aux crozets
DESCRIPTION:
URL:https://gnia.fr/event/viens-te-rechauffer-avec-les-diots-aux-crozets/
END:VEVENT
BEGIN:VEVENT
DTSTART;TZID=UTC:20260216T183000
DTEND;TZID=UTC:20260216T200000
DTSTAMP:20260419T182016
CREATED:20260121T062918Z
LAST-MODIFIED:20260121T062918Z
UID:9510-1771266600-1771272000@gnia.fr
SUMMARY:10 ans (+1 mois) des G.N.I.A
DESCRIPTION:
URL:https://gnia.fr/event/10-ans-1-mois-des-g-n-i-a/
LOCATION:Ninkasi de Tignieu-Jameyzieu
END:VEVENT
BEGIN:VEVENT
DTSTART;TZID=UTC:20260117T160000
DTEND;TZID=UTC:20260117T180000
DTSTAMP:20260419T182016
CREATED:20251207T165114Z
LAST-MODIFIED:20251207T165114Z
UID:9351-1768665600-1768672800@gnia.fr
SUMMARY:Galette avec les G.N.I.A VI - GCBFZ63
DESCRIPTION:
URL:https://gnia.fr/event/galette-avec-les-g-n-i-a-vi-gcbfz63/
END:VEVENT
BEGIN:VEVENT
DTSTART;TZID=UTC:20260117T140000
DTEND;TZID=UTC:20260117T160000
DTSTAMP:20260419T182016
CREATED:20251207T165022Z
LAST-MODIFIED:20251207T165022Z
UID:9348-1768658400-1768665600@gnia.fr
SUMMARY:AG 2026
DESCRIPTION:
URL:https://gnia.fr/event/ag-2026/
END:VEVENT
BEGIN:VEVENT
DTSTART;TZID=UTC:20251206T170000
DTEND;TZID=UTC:20251206T183000
DTSTAMP:20260419T182016
CREATED:20250706T104357Z
LAST-MODIFIED:20250706T104357Z
UID:8811-1765040400-1765045800@gnia.fr
SUMMARY:Clair de lune #13
DESCRIPTION:
URL:https://gnia.fr/event/clair-de-lune-13/
LOCATION:N 45° 43.213 E 005° 08.785
END:VEVENT
BEGIN:VEVENT
DTSTART;TZID=UTC:20251115T180000
DTEND;TZID=UTC:20251115T220000
DTSTAMP:20260419T182016
CREATED:20250706T104159Z
LAST-MODIFIED:20250910T064521Z
UID:8809-1763229600-1763244000@gnia.fr
SUMMARY:GIFF 2025
DESCRIPTION:
URL:https://gnia.fr/event/giff-2025/
LOCATION:Espace Roger GAUTHIER\, N 45 44.419 E 005 09.520
END:VEVENT
BEGIN:VEVENT
DTSTART;TZID=UTC:20251004T180000
DTEND;TZID=UTC:20251004T203000
DTSTAMP:20260419T182016
CREATED:20250910T064503Z
LAST-MODIFIED:20250910T064503Z
UID:8897-1759600800-1759609800@gnia.fr
SUMMARY:Journée Mondiale de la Carte Postale
DESCRIPTION:
URL:https://gnia.fr/event/journee-mondiale-de-la-carte-postale/
LOCATION:N 45° 43.550 E 005° 15.193
END:VEVENT
BEGIN:VEVENT
DTSTART;VALUE=DATE:20250927
DTEND;VALUE=DATE:20250928
DTSTAMP:20260419T182016
CREATED:20250910T064316Z
LAST-MODIFIED:20250910T064316Z
UID:8894-1758931200-1759017599@gnia.fr
SUMMARY:Sortie adhérents
DESCRIPTION:
URL:https://gnia.fr/event/sortie-adherents/
LOCATION:Étang de Chalignieu
END:VEVENT
BEGIN:VEVENT
DTSTART;TZID=UTC:20250906T140000
DTEND;TZID=UTC:20250906T180000
DTSTAMP:20260419T182016
CREATED:20250706T103814Z
LAST-MODIFIED:20250706T103827Z
UID:8806-1757167200-1757181600@gnia.fr
SUMMARY:Forum des associations 2025
DESCRIPTION:
URL:https://gnia.fr/event/forum-des-associations-2025/
LOCATION:Gymnase David Douillet Charvieu-Chavagneux\, Avenue du Collège\, Charvieu-Chavagneux\, 38230
END:VEVENT
BEGIN:VEVENT
DTSTART;TZID=UTC:20250614T190000
DTEND;TZID=UTC:20250614T220000
DTSTAMP:20260419T182016
CREATED:20250706T103449Z
LAST-MODIFIED:20250706T103449Z
UID:8803-1749927600-1749938400@gnia.fr
SUMMARY:BBQ au Clair de Lune #4
DESCRIPTION:
URL:https://gnia.fr/event/bbq-au-clair-de-lune-4/
LOCATION:Chapelle de Marcilleux : N 45° 48.318 E 005° 16.678
END:VEVENT
BEGIN:VEVENT
DTSTART;TZID=UTC:20250525T083000
DTEND;TZID=UTC:20250525T123000
DTSTAMP:20260419T182016
CREATED:20250706T103304Z
LAST-MODIFIED:20250706T103304Z
UID:8801-1748161800-1748176200@gnia.fr
SUMMARY:Le CITO de Printemps des G.N.I.A
DESCRIPTION:
URL:https://gnia.fr/event/le-cito-de-printemps-des-g-n-i-a/
LOCATION:Lac de Frémiville charvieu\, Charvieu chavagneux\, 38230\, France
END:VEVENT
BEGIN:VEVENT
DTSTART;TZID=UTC:20250412T090000
DTEND;TZID=UTC:20250412T100000
DTSTAMP:20260419T182016
CREATED:20250706T103049Z
LAST-MODIFIED:20250706T103049Z
UID:8798-1744448400-1744452000@gnia.fr
SUMMARY:Les G.N.I.A sur le New LVB
DESCRIPTION:
URL:https://gnia.fr/event/les-g-n-i-a-sur-le-new-lvb/
LOCATION:N 45° 49.455 E 005° 25.252
END:VEVENT
BEGIN:VEVENT
DTSTART;TZID=UTC:20250315T113000
DTEND;TZID=UTC:20250315T180000
DTSTAMP:20260419T182016
CREATED:20250125T105136Z
LAST-MODIFIED:20250125T105136Z
UID:7146-1742038200-1742061600@gnia.fr
SUMMARY:Viens te réchauffer avec les Diots des G.N.I.A
DESCRIPTION:
URL:https://gnia.fr/event/viens-te-rechauffer-avec-les-diots-des-g-n-i-a/
LOCATION:Espace Gauthier\, 45\,740224\, 5\,158757
END:VEVENT
BEGIN:VEVENT
DTSTART;TZID=UTC:20250118T160000
DTEND;TZID=UTC:20250118T180000
DTSTAMP:20260419T182016
CREATED:20241215T162448Z
LAST-MODIFIED:20241216T095611Z
UID:6552-1737216000-1737223200@gnia.fr
SUMMARY:Galette avec les G.N.I.A V
DESCRIPTION:
URL:https://gnia.fr/event/galette-avec-les-g-n-i-a-iv-event-gcagjhf/
LOCATION:Espace Roger GAUTHIER\, N 45 44.419 E 005 09.520
CATEGORIES:Event géocaching
END:VEVENT
BEGIN:VEVENT
DTSTART;TZID=UTC:20250118T140000
DTEND;TZID=UTC:20250118T160000
DTSTAMP:20260419T182016
CREATED:20241216T102441Z
LAST-MODIFIED:20241216T102441Z
UID:7003-1737208800-1737216000@gnia.fr
SUMMARY:Assemblée Générale 2025
DESCRIPTION:
URL:https://gnia.fr/event/assemblee-generale-2025/
LOCATION:Espace Roger GAUTHIER\, N 45 44.419 E 005 09.520
CATEGORIES:Assemblée générale
END:VEVENT
BEGIN:VEVENT
DTSTART;TZID=UTC:20240608T190000
DTEND;TZID=UTC:20240608T220000
DTSTAMP:20260419T182016
CREATED:20240505T170319Z
LAST-MODIFIED:20240505T170319Z
UID:6769-1717873200-1717884000@gnia.fr
SUMMARY:🥩 BBQ au Clair de Lune #3 🥩
DESCRIPTION:
URL:https://gnia.fr/event/%f0%9f%a5%a9-bbq-au-clair-de-lune-3-%f0%9f%a5%a9/
LOCATION:N 45° 47.114 E 005° 18.622
END:VEVENT
BEGIN:VEVENT
DTSTART;TZID=UTC:20240525T083000
DTEND;TZID=UTC:20240525T120000
DTSTAMP:20260419T182016
CREATED:20240305T105532Z
LAST-MODIFIED:20240305T105550Z
UID:6744-1716625800-1716638400@gnia.fr
SUMMARY:CITO DE PRINTEMPS
DESCRIPTION:
URL:https://gnia.fr/event/cito-de-printemps/
LOCATION:Lac de Frémiville charvieu\, Charvieu chavagneux\, 38230\, France
CATEGORIES:Event géocaching
END:VEVENT
BEGIN:VEVENT
DTSTART;TZID=UTC:20240329T190000
DTEND;TZID=UTC:20240329T210000
DTSTAMP:20260419T182016
CREATED:20240305T105804Z
LAST-MODIFIED:20240305T105804Z
UID:6746-1711738800-1711746000@gnia.fr
SUMMARY:Réunion du CA
DESCRIPTION:
URL:https://gnia.fr/event/reunion-du-ca/
LOCATION:Local Asso
CATEGORIES:Réunion CA
END:VEVENT
BEGIN:VEVENT
DTSTART;TZID=UTC:20240229T180000
DTEND;TZID=UTC:20240229T203000
DTSTAMP:20260419T182016
CREATED:20240203T134711Z
LAST-MODIFIED:20240203T134711Z
UID:6696-1709229600-1709238600@gnia.fr
SUMMARY:29 février\, 4 ans d'attente !!
DESCRIPTION:
URL:https://gnia.fr/event/29-fevrier-4-ans-dattente/
LOCATION:Crémieu
END:VEVENT
BEGIN:VEVENT
DTSTART;TZID=UTC:20231202T170000
DTEND;TZID=UTC:20231202T223000
DTSTAMP:20260419T182016
CREATED:20231107T150504Z
LAST-MODIFIED:20231107T150504Z
UID:6416-1701536400-1701556200@gnia.fr
SUMMARY:Clair de lune #11
DESCRIPTION:
URL:https://gnia.fr/event/clair-de-lune-11/
LOCATION:N 45° 43.213 E 005° 08.785
END:VEVENT
BEGIN:VEVENT
DTSTART;TZID=UTC:20231111T180000
DTEND;TZID=UTC:20231111T220000
DTSTAMP:20260419T182016
CREATED:20231107T145842Z
LAST-MODIFIED:20231107T145842Z
UID:6412-1699725600-1699740000@gnia.fr
SUMMARY:GIFF 2023
DESCRIPTION:
URL:https://gnia.fr/event/giff-2023/
LOCATION:Espace Roger GAUTHIER\, N 45 44.419 E 005 09.520
END:VEVENT
BEGIN:VEVENT
DTSTART;TZID=UTC:20230923T110000
DTEND;TZID=UTC:20230923T143000
DTSTAMP:20260419T182016
CREATED:20230712T161449Z
LAST-MODIFIED:20230712T161449Z
UID:6308-1695466800-1695479400@gnia.fr
SUMMARY:Les G.N.I.A en vadrouille
DESCRIPTION:
URL:https://gnia.fr/event/les-g-n-i-a-en-vadrouille/
LOCATION:DOMMARTIN
END:VEVENT
BEGIN:VEVENT
DTSTART;TZID=UTC:20230902T140000
DTEND;TZID=UTC:20230902T170000
DTSTAMP:20260419T182016
CREATED:20230712T160910Z
LAST-MODIFIED:20230712T160910Z
UID:6304-1693663200-1693674000@gnia.fr
SUMMARY:Forum des associations
DESCRIPTION:
URL:https://gnia.fr/event/forum-des-associations/
LOCATION:Espace Davis DOUILLET 38230 CHARVIEU-CHAVAGNEUX\, CHARVIEU CHAVAGNEUX\, 38230\, France
END:VEVENT
BEGIN:VEVENT
DTSTART;TZID=UTC:20230624T190000
DTEND;TZID=UTC:20230624T230000
DTSTAMP:20260419T182016
CREATED:20230522T192058Z
LAST-MODIFIED:20230522T173630Z
UID:5594-1687633200-1687647600@gnia.fr
SUMMARY:🥩 BBQ au Clair de Lune #2 🥩
DESCRIPTION:
URL:https://gnia.fr/event/%f0%9f%a5%a9-bbq-au-clair-de-lune-1-%f0%9f%a5%a9/
LOCATION:N 45° 49.002 E 005° 24.866
CATEGORIES:Event géocaching
END:VEVENT
BEGIN:VEVENT
DTSTART;TZID=UTC:20230304T110000
DTEND;TZID=UTC:20230304T143000
DTSTAMP:20260419T182016
CREATED:20230122T131957Z
LAST-MODIFIED:20230122T131957Z
UID:6074-1677927600-1677940200@gnia.fr
SUMMARY:🍳 Viens t'faire cuire un œuf avec les G.N.I.A VI
DESCRIPTION:L’association des G.N.I.A est heureuse de vous accueillir pour son évent des omelettes. \nAu programme \nDiscussions\, échange TB/GC\, dernières nouvelles\, convivialité\, \nect…. \n  \n11H00 Accueil \n12H00 Omelettes \n14H30 Fin officielle de l’évent \n  \nHors Event : Prévoyez de quoi rechercher et ramasser quelques œufs \n  \nAttention \n2 oeufs par adulte  \nGratuit pour les enfants jusqu’a 12 ans inclus \nParticipation de 10 euros par adulte pour les non adhérents \n  \nInscrivez vous en remplissant le formulaire ICI \nMenu \n\nKir\nOmelette\nPain\nFromage\nBoissons\nDessert\nCafé
URL:https://gnia.fr/event/%f0%9f%8d%b3-viens-tfaire-cuire-un-oeuf-avec-les-g-n-i-a-vi/
LOCATION:Espace Roger GAUTHIER\, N 45 44.419 E 005 09.520
CATEGORIES:Event géocaching
ATTACH;FMTTYPE=image/jpeg:https://gnia.fr/wp-content/uploads/2020/10/2bb362cc-a4c2-465e-a3bb-bccd2886edf3.jpg
END:VEVENT
BEGIN:VEVENT
DTSTART;TZID=UTC:20230114T140000
DTEND;TZID=UTC:20230114T170000
DTSTAMP:20260419T182016
CREATED:20221111T205350Z
LAST-MODIFIED:20221111T205350Z
UID:5970-1673704800-1673715600@gnia.fr
SUMMARY:GCA0Z1N - Galette avec les G.N.I.A III
DESCRIPTION:L’association de Géocacheurs du Nord Isère et d’Ailleurs est heureuse de vous accueillir pour la\n \nAu programme\n14 H 00 – 15 H 00 : Accueil des participants adhérents et non adhérents aux coordonnées de l’évent pour un bon moment de convivialité et dans la bonne humeur \nEchange TB/GC \nPhoto de groupe \n17h00 Fin de l’évènement \nPARTICIPATION DE 5 EUROS PAR ADULTE POUR LES NON ADHERENT (Adulte à partir de 13 ans)\nLien géocaching : https://coord.info/GCA0Z1N \nLien boutique : https://boutique.gnia.fr/produit/galette-3/
URL:https://gnia.fr/event/gca0z1n-galette-avec-les-g-n-i-a-iii/
LOCATION:Espace Roger GAUTHIER\, N 45 44.419 E 005 09.520
CATEGORIES:Event géocaching
END:VEVENT
BEGIN:VEVENT
DTSTART;TZID=UTC:20230109T190000
DTEND;TZID=UTC:20230109T210000
DTSTAMP:20260419T182016
CREATED:20221108T165818Z
LAST-MODIFIED:20221111T205415Z
UID:5958-1673290800-1673298000@gnia.fr
SUMMARY:Réunion CA
DESCRIPTION:Ordre du jour \nA compléter
URL:https://gnia.fr/event/reunion-ca-2/
CATEGORIES:Réunion CA
END:VEVENT
BEGIN:VEVENT
DTSTART;TZID=UTC:20221203T190000
DTEND;TZID=UTC:20221203T213000
DTSTAMP:20260419T182016
CREATED:20221031T073457Z
LAST-MODIFIED:20221031T073858Z
UID:5949-1670094000-1670103000@gnia.fr
SUMMARY:EVENT de fin "Au Fin Bec" pour les becs fins
DESCRIPTION:
URL:https://gnia.fr/event/event-de-fin-au-fin-bec-pour-les-becs-fins/
CATEGORIES:Event géocaching
END:VEVENT
BEGIN:VEVENT
DTSTART;TZID=UTC:20221107T190000
DTEND;TZID=UTC:20221107T210000
DTSTAMP:20260419T182016
CREATED:20221108T164859Z
LAST-MODIFIED:20221108T164859Z
UID:5956-1667847600-1667854800@gnia.fr
SUMMARY:Réunion CA
DESCRIPTION:Ordre du jour :\n Point d’avancement préparation MEGA (Marc)\n Prépa Event Resto (Jean Marie)\n Avancement V2 site internet (David et Cédric)\n Point logistique :\n Gobelets\n Oriflamme\n Geowoods\n Points divers
URL:https://gnia.fr/event/reunion-ca/
CATEGORIES:Réunion CA
END:VEVENT
BEGIN:VEVENT
DTSTART;TZID=UTC:20221015T093000
DTEND;TZID=UTC:20221015T113000
DTSTAMP:20260419T182016
CREATED:20220907T154144Z
LAST-MODIFIED:20220907T154144Z
UID:5843-1665826200-1665833400@gnia.fr
SUMMARY:Cito Day Vallée Bleue
DESCRIPTION:
URL:https://gnia.fr/event/cito-day-vallee-bleue/
LOCATION:GC7KTQE – CITO day à la Vallée Bleue\, N 45° 49.465 E 005° 25.247
CATEGORIES:Event géocaching
END:VEVENT
END:VCALENDAR